BEGIN:VCALENDAR
VERSION:2.0
PRODID:-//Adoption Grants | Gift of Adoption Fund - ECPv6.15.20//NONSGML v1.0//EN
CALSCALE:GREGORIAN
METHOD:PUBLISH
X-WR-CALNAME:Adoption Grants | Gift of Adoption Fund
X-ORIGINAL-URL:https://giftofadoption.org
X-WR-CALDESC:Events for Adoption Grants | Gift of Adoption Fund
REFRESH-INTERVAL;VALUE=DURATION:PT1H
X-Robots-Tag:noindex
X-PUBLISHED-TTL:PT1H
BEGIN:VTIMEZONE
TZID:America/Los_Angeles
BEGIN:DAYLIGHT
TZOFFSETFROM:-0800
TZOFFSETTO:-0700
TZNAME:PDT
DTSTART:20240310T100000
END:DAYLIGHT
BEGIN:STANDARD
TZOFFSETFROM:-0700
TZOFFSETTO:-0800
TZNAME:PST
DTSTART:20241103T090000
END:STANDARD
BEGIN:DAYLIGHT
TZOFFSETFROM:-0800
TZOFFSETTO:-0700
TZNAME:PDT
DTSTART:20250309T100000
END:DAYLIGHT
BEGIN:STANDARD
TZOFFSETFROM:-0700
TZOFFSETTO:-0800
TZNAME:PST
DTSTART:20251102T090000
END:STANDARD
BEGIN:DAYLIGHT
TZOFFSETFROM:-0800
TZOFFSETTO:-0700
TZNAME:PDT
DTSTART:20260308T100000
END:DAYLIGHT
BEGIN:STANDARD
TZOFFSETFROM:-0700
TZOFFSETTO:-0800
TZNAME:PST
DTSTART:20261101T090000
END:STANDARD
END:VTIMEZONE
BEGIN:VTIMEZONE
TZID:America/Chicago
BEGIN:DAYLIGHT
TZOFFSETFROM:-0600
TZOFFSETTO:-0500
TZNAME:CDT
DTSTART:20230312T080000
END:DAYLIGHT
BEGIN:STANDARD
TZOFFSETFROM:-0500
TZOFFSETTO:-0600
TZNAME:CST
DTSTART:20231105T070000
END:STANDARD
BEGIN:DAYLIGHT
TZOFFSETFROM:-0600
TZOFFSETTO:-0500
TZNAME:CDT
DTSTART:20240310T080000
END:DAYLIGHT
BEGIN:STANDARD
TZOFFSETFROM:-0500
TZOFFSETTO:-0600
TZNAME:CST
DTSTART:20241103T070000
END:STANDARD
BEGIN:DAYLIGHT
TZOFFSETFROM:-0600
TZOFFSETTO:-0500
TZNAME:CDT
DTSTART:20250309T080000
END:DAYLIGHT
BEGIN:STANDARD
TZOFFSETFROM:-0500
TZOFFSETTO:-0600
TZNAME:CST
DTSTART:20251102T070000
END:STANDARD
END:VTIMEZONE
BEGIN:VEVENT
DTSTART;TZID=America/Los_Angeles:20250920T100000
DTEND;TZID=America/Los_Angeles:20250920T160000
DTSTAMP:20260424T071300
CREATED:20230817T201531Z
LAST-MODIFIED:20250528T163350Z
UID:41360-1758362400-1758384000@giftofadoption.org
SUMMARY:California Chapter: Golf for the Gift - 3rd Annual Charity Golf Tournament
DESCRIPTION:Saturday September 20\, 2025  |  10:00 AM – 4:00 PM (PT)  | Dublin Ranch Golf Course\nJoin us for our 3rd Annual Charity Golf Tournament! Enjoy an awesome round of golf at a beautiful golf course in Dublin California while contributing to a great cause. Help us hit our goal to provide grants to 3 children to find permanent families and a chance to thrive. \n$150 Per Golfer\n$500 for a Golf Foursome\n \nMORE INFORMATION: Register – Sponsor – Donate \nGift of Adoption provides grants to complete the adoptions of children in vulnerable circumstances—giving them permanent families and a chance to thrive. 100% of the funds raised will help unite children with families across California.
URL:https://giftofadoption.org/goaevent/cagolf/
LOCATION:Dublin Ranch Golf Course\, 5900 Signal Hill Dr\, Dublin\, CA\, 94568
CATEGORIES:California Chapter
ATTACH;FMTTYPE=image/png:https://giftofadoption.org/wp-content/uploads/2023/08/golf-for-the-gift-CA.png
END:VEVENT
BEGIN:VEVENT
DTSTART;TZID=America/Chicago:20240904T163000
DTEND;TZID=America/Chicago:20240904T193000
DTSTAMP:20260424T071300
CREATED:20230508T201452Z
LAST-MODIFIED:20240820T184905Z
UID:40451-1725467400-1725478200@giftofadoption.org
SUMMARY:California Chapter - Brews and Beginnings: A Toast to Adoption
DESCRIPTION:Wednesday September 4\, 2024  |  4:30 – 7:30 PM (PT)  |  Calicraft Brewery\nCome down to Calicraft and help raise money for Gift of Adoption! 10% of all purchases at Calicraft will go to Gift of Adoption. Gift of Adoption provides grants to complete the adoptions of children in vulnerable circumstances—giving them permanent families and a chance to thrive\, prioritizing grants to children with rare medical conditions\, siblings\, and adolescents at risk for aging out of the system. \nCalicraft has a host of different beers\, seltzers and non-alcoholic drinks. Choose from indoor and outdoor seating in a family-friendly atmosphere. Dogs are welcome outside on a leash. A food truck available for dinner and snack options.
URL:https://giftofadoption.org/goaevent/cabrews/
LOCATION:Calicraft Brewery\, 2700 Mitchell Drive\, Walnut Creek\, CA\, 94598
CATEGORIES:California Chapter
ATTACH;FMTTYPE=image/jpeg:https://giftofadoption.org/wp-content/uploads/2023/05/2024-09-04-CA-Brews-and-Beginnings-Flyer-e1724179726590.jpg
END:VEVENT
END:VCALENDAR