BEGIN:VCALENDAR
VERSION:2.0
PRODID:-//Adoption Grants | Gift of Adoption Fund - ECPv6.15.20//NONSGML v1.0//EN
CALSCALE:GREGORIAN
METHOD:PUBLISH
X-ORIGINAL-URL:https://giftofadoption.org
X-WR-CALDESC:Events for Adoption Grants | Gift of Adoption Fund
REFRESH-INTERVAL;VALUE=DURATION:PT1H
X-Robots-Tag:noindex
X-PUBLISHED-TTL:PT1H
BEGIN:VTIMEZONE
TZID:America/Chicago
BEGIN:DAYLIGHT
TZOFFSETFROM:-0600
TZOFFSETTO:-0500
TZNAME:CDT
DTSTART:20230312T080000
END:DAYLIGHT
BEGIN:STANDARD
TZOFFSETFROM:-0500
TZOFFSETTO:-0600
TZNAME:CST
DTSTART:20231105T070000
END:STANDARD
BEGIN:DAYLIGHT
TZOFFSETFROM:-0600
TZOFFSETTO:-0500
TZNAME:CDT
DTSTART:20240310T080000
END:DAYLIGHT
BEGIN:STANDARD
TZOFFSETFROM:-0500
TZOFFSETTO:-0600
TZNAME:CST
DTSTART:20241103T070000
END:STANDARD
BEGIN:DAYLIGHT
TZOFFSETFROM:-0600
TZOFFSETTO:-0500
TZNAME:CDT
DTSTART:20250309T080000
END:DAYLIGHT
BEGIN:STANDARD
TZOFFSETFROM:-0500
TZOFFSETTO:-0600
TZNAME:CST
DTSTART:20251102T070000
END:STANDARD
BEGIN:DAYLIGHT
TZOFFSETFROM:-0600
TZOFFSETTO:-0500
TZNAME:CDT
DTSTART:20260308T080000
END:DAYLIGHT
BEGIN:STANDARD
TZOFFSETFROM:-0500
TZOFFSETTO:-0600
TZNAME:CST
DTSTART:20261101T070000
END:STANDARD
END:VTIMEZONE
BEGIN:VEVENT
DTSTART;TZID=America/Chicago:20251202T190000
DTEND;TZID=America/Chicago:20251202T203000
DTSTAMP:20260424T084325
CREATED:20240924T203633Z
LAST-MODIFIED:20251028T151311Z
UID:45090-1764702000-1764707400@giftofadoption.org
SUMMARY:Guessing for the Gift: Chapter Awards Recognition & Virtual Trivia Night
DESCRIPTION:Tuesday\, December 2\, 2025 | 7:00 – 8:30 PM (CST) | Virtual Event 💻 — Join from Anywhere!\nJoin us for a night of recognition and the chance to win $5\,000! \nThe Chapter Awards Recognition will recognize the 2025 Angels in Adoption and the 2025 Honor\, Amplify and Be Scrappy award recipients. \nWe will do a Chapter Trivia Challenge – two rounds of trivia with one winning chapter team will receive $5\,000 to help one more child find a permanent family in your state!​ \nNEW THIS YEAR! You can participate as an “Individual” and rely on your own Trivia Prowess to win the game or take advantage of the family knowledge with a “Family Ticket” and encourage your household to join you! \nLast year\, the Virginia Chapter came home with the big win: who will take it all this year? \n\n\nBuy Tickets     Learn More
URL:https://giftofadoption.org/goaevent/guessingforthegift/
CATEGORIES:National
ATTACH;FMTTYPE=image/png:https://giftofadoption.org/wp-content/uploads/2024/09/guessing-2025-640-x-360-px.png
LOCATION:https://giftofadoption.org/goaevent/guessingforthegift/
END:VEVENT
BEGIN:VEVENT
DTSTART;VALUE=DATE:20251202
DTEND;VALUE=DATE:20251203
DTSTAMP:20260424T084325
CREATED:20251124T153544Z
LAST-MODIFIED:20251202T190118Z
UID:48420-1764633600-1764719999@giftofadoption.org
SUMMARY:#GivingTuesday
DESCRIPTION:Tuesday\, December 2\, 2025\nHelp us unlock a $5\,000 bonus when 50 donors give $50 or more this #GivingTuesday!\n#GivingTuesday is a global generosity movement unleashing the power of people and organizations to transform their communities and the world. At Gift of Adoption\, we believe every child deserves the security\, stability\, and sense of belonging that family provides. Your gift this Giving Tuesday helps make that possible. \nEvery dollar moves a child closer to permanency — and every gift\, no matter the size\, changes a life forever. \nLearn More   Donate
URL:https://giftofadoption.org/goaevent/givingtuesday/
CATEGORIES:National
ATTACH;FMTTYPE=image/png:https://giftofadoption.org/wp-content/uploads/2025/11/giving-tuesday-goa-fam-2.png
END:VEVENT
BEGIN:VEVENT
DTSTART;TZID=America/Chicago:20240513T070000
DTEND;TZID=America/Chicago:20240513T190000
DTSTAMP:20260424T084325
CREATED:20230802T224135Z
LAST-MODIFIED:20240221T193427Z
UID:41084-1715583600-1715626800@giftofadoption.org
SUMMARY:Dawn to Dusk Golf Marathon
DESCRIPTION:Monday May\, 13 2024  |  7:00 AM – 7:00 PM (CT)  |  Ravinia Green Country Club\nGift of Adoption is holding a Dawn to Dusk Golf Marathon at the Ravinia Green Country Club. Golfers will play as many holes as golf as they can from 7 AM – 7 PM to raise funds to support Gift of Adoption. \nDonations to Gift of Adoption can be made based on the number of holes played\, or a flat rate. Donors should expect that 50\, 100 or 150 holes may be played depending on many factors such as weather\, quality of golf\, and how long and how fast the Gift of Adoption golfers can play. \n\nGift of Adoption provides grants to complete the adoptions of children in vulnerable circumstances—giving them permanent families and a chance to thrive.  \n\nVisit the Event Site \n 
URL:https://giftofadoption.org/goaevent/dawn2dusk/
LOCATION:Private: Ravinia Green Country Club\, 1200 Saunders Rd\, Riverwoods\, IL\, 60015\, United States
CATEGORIES:National
ATTACH;FMTTYPE=image/png:https://giftofadoption.org/wp-content/uploads/2023/08/2024-NAT-Dawn-to-Dusk-Golf-FB-Marathon-1920x1080-px-e1723225176149.png
END:VEVENT
BEGIN:VEVENT
DTSTART;TZID=America/Chicago:20240430T000000
DTEND;TZID=America/Chicago:20240502T235900
DTSTAMP:20260424T084325
CREATED:20240314T194118Z
LAST-MODIFIED:20240320T141238Z
UID:42916-1714435200-1714694340@giftofadoption.org
SUMMARY:American Fraternal Alliance Spring Symposium
DESCRIPTION:Tuesday April 30 – May 2\, 2024  |  Hyatt Lodge Oakbrook IL\nFuel the spirit of fraternalism at the 2024 Spring Symposium. The Alliance has created a new networking event: the Fraternal1 Common Bond Race & Fundraiser. Attendees can cheer on their common bond racecar. Remote control cars representing societies’ shared purposes will compete for bragging rights and to raise money for a worthy cause – the Gift of Adoption \n\nGift of Adoption provides grants to complete the adoptions of children in vulnerable circumstances—giving them permanent families and a chance to thrive.  \n\nVisit the Event Site
URL:https://giftofadoption.org/goaevent/afa/
LOCATION:Hyatt Lodge Oakbrook IL\, 2815 Jorie Blvd\, Oak Brook\, IL\, 60523
CATEGORIES:National
END:VEVENT
END:VCALENDAR