BEGIN:VCALENDAR
VERSION:2.0
PRODID:-//Adoption Grants | Gift of Adoption Fund - ECPv6.15.20//NONSGML v1.0//EN
CALSCALE:GREGORIAN
METHOD:PUBLISH
X-ORIGINAL-URL:https://giftofadoption.org
X-WR-CALDESC:Events for Adoption Grants | Gift of Adoption Fund
REFRESH-INTERVAL;VALUE=DURATION:PT1H
X-Robots-Tag:noindex
X-PUBLISHED-TTL:PT1H
BEGIN:VTIMEZONE
TZID:America/Los_Angeles
BEGIN:DAYLIGHT
TZOFFSETFROM:-0800
TZOFFSETTO:-0700
TZNAME:PDT
DTSTART:20250309T100000
END:DAYLIGHT
BEGIN:STANDARD
TZOFFSETFROM:-0700
TZOFFSETTO:-0800
TZNAME:PST
DTSTART:20251102T090000
END:STANDARD
BEGIN:DAYLIGHT
TZOFFSETFROM:-0800
TZOFFSETTO:-0700
TZNAME:PDT
DTSTART:20260308T100000
END:DAYLIGHT
BEGIN:STANDARD
TZOFFSETFROM:-0700
TZOFFSETTO:-0800
TZNAME:PST
DTSTART:20261101T090000
END:STANDARD
BEGIN:DAYLIGHT
TZOFFSETFROM:-0800
TZOFFSETTO:-0700
TZNAME:PDT
DTSTART:20270314T100000
END:DAYLIGHT
BEGIN:STANDARD
TZOFFSETFROM:-0700
TZOFFSETTO:-0800
TZNAME:PST
DTSTART:20271107T090000
END:STANDARD
END:VTIMEZONE
BEGIN:VTIMEZONE
TZID:America/New_York
BEGIN:DAYLIGHT
TZOFFSETFROM:-0500
TZOFFSETTO:-0400
TZNAME:EDT
DTSTART:20250309T070000
END:DAYLIGHT
BEGIN:STANDARD
TZOFFSETFROM:-0400
TZOFFSETTO:-0500
TZNAME:EST
DTSTART:20251102T060000
END:STANDARD
BEGIN:DAYLIGHT
TZOFFSETFROM:-0500
TZOFFSETTO:-0400
TZNAME:EDT
DTSTART:20260308T070000
END:DAYLIGHT
BEGIN:STANDARD
TZOFFSETFROM:-0400
TZOFFSETTO:-0500
TZNAME:EST
DTSTART:20261101T060000
END:STANDARD
BEGIN:DAYLIGHT
TZOFFSETFROM:-0500
TZOFFSETTO:-0400
TZNAME:EDT
DTSTART:20270314T070000
END:DAYLIGHT
BEGIN:STANDARD
TZOFFSETFROM:-0400
TZOFFSETTO:-0500
TZNAME:EST
DTSTART:20271107T060000
END:STANDARD
END:VTIMEZONE
BEGIN:VTIMEZONE
TZID:America/Chicago
BEGIN:DAYLIGHT
TZOFFSETFROM:-0600
TZOFFSETTO:-0500
TZNAME:CDT
DTSTART:20250309T080000
END:DAYLIGHT
BEGIN:STANDARD
TZOFFSETFROM:-0500
TZOFFSETTO:-0600
TZNAME:CST
DTSTART:20251102T070000
END:STANDARD
BEGIN:DAYLIGHT
TZOFFSETFROM:-0600
TZOFFSETTO:-0500
TZNAME:CDT
DTSTART:20260308T080000
END:DAYLIGHT
BEGIN:STANDARD
TZOFFSETFROM:-0500
TZOFFSETTO:-0600
TZNAME:CST
DTSTART:20261101T070000
END:STANDARD
BEGIN:DAYLIGHT
TZOFFSETFROM:-0600
TZOFFSETTO:-0500
TZNAME:CDT
DTSTART:20270314T080000
END:DAYLIGHT
BEGIN:STANDARD
TZOFFSETFROM:-0500
TZOFFSETTO:-0600
TZNAME:CST
DTSTART:20271107T070000
END:STANDARD
END:VTIMEZONE
BEGIN:VTIMEZONE
TZID:America/Boise
BEGIN:DAYLIGHT
TZOFFSETFROM:-0700
TZOFFSETTO:-0600
TZNAME:MDT
DTSTART:20250309T090000
END:DAYLIGHT
BEGIN:STANDARD
TZOFFSETFROM:-0600
TZOFFSETTO:-0700
TZNAME:MST
DTSTART:20251102T080000
END:STANDARD
BEGIN:DAYLIGHT
TZOFFSETFROM:-0700
TZOFFSETTO:-0600
TZNAME:MDT
DTSTART:20260308T090000
END:DAYLIGHT
BEGIN:STANDARD
TZOFFSETFROM:-0600
TZOFFSETTO:-0700
TZNAME:MST
DTSTART:20261101T080000
END:STANDARD
BEGIN:DAYLIGHT
TZOFFSETFROM:-0700
TZOFFSETTO:-0600
TZNAME:MDT
DTSTART:20270314T090000
END:DAYLIGHT
BEGIN:STANDARD
TZOFFSETFROM:-0600
TZOFFSETTO:-0700
TZNAME:MST
DTSTART:20271107T080000
END:STANDARD
END:VTIMEZONE
BEGIN:VEVENT
DTSTART;TZID=America/Los_Angeles:20260516T170000
DTEND;TZID=America/Los_Angeles:20260516T190000
DTSTAMP:20260424T070310
CREATED:20220216T231917Z
LAST-MODIFIED:20260403T205025Z
UID:36740-1778950800-1778958000@giftofadoption.org
SUMMARY:Utah Chapter: Luau
DESCRIPTION:Saturday\, May 16\, 2026  |  5:00 – 7:00 PM (MT)  |  Church of Jesus Christ of Latter-day Saints\nJoin the Gift of Adoption Utah Chapter for a family fun night to celebrate adoption with catered Hawaiian food\, games and silent auction. 100% of proceeds go to funding adoption grants for Utah families.  \nTickets – Sponsor – Donate   \nGift of Adoption provides grants to complete the adoptions of children in vulnerable circumstances—giving them permanent families and a chance to thrive. 100% of the funds raised will help unite children with families across Utah.
URL:https://giftofadoption.org/goaevent/utahluau/
LOCATION:Church of Jesus Christ of Latter-day Saints\, 10227 South 4000 West\, South Jordan\, Utah\, 84009
CATEGORIES:Utah Chapter
ATTACH;FMTTYPE=image/png:https://giftofadoption.org/wp-content/uploads/2022/02/luau-fundraiser-utah-525-640-x-360-px-1-e1775249415362.png
END:VEVENT
BEGIN:VEVENT
DTSTART;TZID=America/New_York:20260516T173000
DTEND;TZID=America/New_York:20260516T203000
DTSTAMP:20260424T070310
CREATED:20220512T224044Z
LAST-MODIFIED:20260210T190302Z
UID:37241-1778952600-1778963400@giftofadoption.org
SUMMARY:New Hampshire Chapter: The Chef's Gala
DESCRIPTION:Saturday\, May 16\, 2026  |  5:30 – 8:30 PM (ET)  |  Montcalm Golf Club\nJoin us at The Chef’s Gala\, where culinary excellence meets philanthropy! Delight your senses as Top Chefs from the Upper Valley compete in a gastronomic showdown. Each chef will tantalize your taste buds with delectable dishes\, perfectly paired with wines curated by a Certified Sommelier. Graze as many times as you wish and then vote for your favorite dish! \nLearn more!   Register – Sponsor – Donate \nGift of Adoption provides grants to complete the adoptions of children in vulnerable circumstances—giving them permanent families and a chance to thrive. 100% of the funds raised go to uniting children with permanent\, loving families in New Hampshire and New England.  \n 
URL:https://giftofadoption.org/goaevent/chefgala/
LOCATION:Montcalm Golf Club\, 2 Smith Pond Rd\, Enfield\, New Hampshire\, 03748
CATEGORIES:New Hampshire Chapter
ATTACH;FMTTYPE=image/jpeg:https://giftofadoption.org/wp-content/uploads/2022/05/1000x280-NH-Chef-Gala-Event-Graphic-scaled-e1708729711117.jpg
END:VEVENT
BEGIN:VEVENT
DTSTART;TZID=America/Chicago:20260611T173000
DTEND;TZID=America/Chicago:20260611T193000
DTSTAMP:20260424T070310
CREATED:20260422T181259Z
LAST-MODIFIED:20260423T153317Z
UID:49348-1781199000-1781206200@giftofadoption.org
SUMMARY:Illinois Chapter: Smooth Sailing Home
DESCRIPTION:Thursday\, June 11\, 2026 | 5:30 – 7:30 PM (CT) | Chicago Line Cruises – Ogden Slip on McClurg Court\nJoin us for a memorable evening on the water as we come together to bridge the gap between children in need and permanent\, loving families. This sunset cruise combines scenic views\, experienced storytelling\, and a shared mission to change lives\, one grant at a time. One drink ticket will be included in your ticket purchase with additional beverages available for purchase. \nRegister – Sponsor – Donate \n*Cancellation of the sail due to weather could be a real time decision made by the captain. In such a case\, refunds or raincheck will be offered to attendees. \n\nGift of Adoption provides grants to complete the adoptions of children in vulnerable circumstances—giving them permanent families and a chance to thrive. 100% of funds raise go toward uniting children with loving families in Illinois and the Midwest.
URL:https://giftofadoption.org/goaevent/ilcruise26/
LOCATION:Ogden Slip\, 465 N McClurg Court\, Chicago\, 60611
CATEGORIES:Illinois Chapter
ATTACH;FMTTYPE=image/png:https://giftofadoption.org/wp-content/uploads/2026/04/IL-Smooth-Sailing-360-x-360-px-1.png
END:VEVENT
BEGIN:VEVENT
DTSTART;TZID=America/Chicago:20260617T100000
DTEND;TZID=America/Chicago:20260617T193000
DTSTAMP:20260424T070310
CREATED:20220426T143025Z
LAST-MODIFIED:20260305T155135Z
UID:37112-1781690400-1781724600@giftofadoption.org
SUMMARY:Minnesota Chapter: Golf for the Gift
DESCRIPTION:Wednesday\, June 17\, 2026 | Troy Burne Golf Club | 10:00 AM – 7:30 PM (CT)\n\n\n\nWe’re back for the 19th Rod Simons Memorial Golf For The Gift. Once again\, we’re fortunate to tee-off for another great day at the gorgeous Troy Burne Golf Club in Hudson. We raise needed funds to support grants from the Gift of Adoption Fund\, which will directly impact local Minnesota families\, allowing parents to reach that “financial finish line” and provide permanency to a child in need of a loving family. \nRegister – Sponsor – Donate    Learn more! \n\n\n\n\n\n\n\n\n 
URL:https://giftofadoption.org/goaevent/golf-for-the-gift/
LOCATION:Troy Burne Golf Club\, 295 Lindsay Road\, Hudson\, WI\, 54016
CATEGORIES:Minnesota Chapter
ATTACH;FMTTYPE=image/png:https://giftofadoption.org/wp-content/uploads/2022/04/rod-simons-g4tg-640-x-360-px.png
END:VEVENT
BEGIN:VEVENT
DTSTART;VALUE=DATE:20260705
DTEND;VALUE=DATE:20260706
DTSTAMP:20260424T070310
CREATED:20210216T184418Z
LAST-MODIFIED:20260415T151751Z
UID:33193-1783209600-1783295999@giftofadoption.org
SUMMARY:Texas Chapter Meat Raffle 2026
DESCRIPTION:Grand Prize – Approximately 100 lbs. Meat ($700 value) + $300 Best Buy Gift Card for a Freezer\n2nd Place – Approximately 48 lbs. Meat ($300 value)\nDelivery Included for DFW\, Austin\, San Antonio or Houston Area. \nDrawing will be held July 5th \nTickets\n$25 each or\n6 for $100\n20 for $200 \nPurchase Raffle Tickets! \nGrand Prize package could include the following (based on local availability):\nT-Bone Clubs\, Beef Cutlets\, Boneless Chuck Roast\, Top Round Steak\, Ground Chuck\, Bacon\, Breakfast Sausage\, Boneless Chicken Breast\, Pork Chops\, Drumsticks \n2nd Place package could include the following (based on local availability):\nBeef Cutlets\, Bacon\, Ground Sirloin\, T-Bone Clubs\, Ground Chuck\, Breaded Chicken Strips\, Pork Sausage\, Pork Steak\, Pork Roast \nGift of Adoption provides grants to complete the adoptions of children in vulnerable circumstances—giving them permanent families and a chance to thrive. 100% of the funds raised will help unite children with families across Texas.
URL:https://giftofadoption.org/goaevent/beef-raffle/
LOCATION:Virtual
CATEGORIES:Texas Chapter
ATTACH;FMTTYPE=image/jpeg:https://giftofadoption.org/wp-content/uploads/2021/02/19201080-px-TX-Beef-Raffle-Event-Graphic-7-scaled-e1775766384967.jpg
END:VEVENT
BEGIN:VEVENT
DTSTART;TZID=America/Boise:20260813T170000
DTEND;TZID=America/Boise:20260813T200000
DTSTAMP:20260424T070310
CREATED:20250505T161734Z
LAST-MODIFIED:20260410T160316Z
UID:46847-1786640400-1786651200@giftofadoption.org
SUMMARY:Idaho Chapter: Trivia Night
DESCRIPTION:Thursday\, August 13\, 2026 |  5:00 – 8:00 pm (MT)  |  White Dog Brewing Co.\n\nJoin the Idaho Chapter of Gift of Adoption for an unforgettable evening of fun and purpose. Test your knowledge with a lively trivia contest\, snack on delicious bites and brews\, and browse our silent auction! \n\n\n\nIndividual Tickets: $40\n\n\nTickets – Sponsor – Donate \nGift of Adoption provides grants to complete the adoptions of children in vulnerable circumstances—giving them permanent families and a chance to thrive. \n\n\n 
URL:https://giftofadoption.org/goaevent/idtrivia/
LOCATION:White Dog Brewing Co.\, 705 W Fulton St\, Boise\, 83702\, United States
CATEGORIES:Idaho
ATTACH;FMTTYPE=image/png:https://giftofadoption.org/wp-content/uploads/2025/05/or-trivia-640-x-360-px.png
END:VEVENT
BEGIN:VEVENT
DTSTART;TZID=America/Chicago:20261024T170000
DTEND;TZID=America/Chicago:20261024T210000
DTSTAMP:20260424T070310
CREATED:20210802T175535Z
LAST-MODIFIED:20260330T151347Z
UID:34907-1792861200-1792875600@giftofadoption.org
SUMMARY:Texas Chapter: 13th Annual Fundraiser 
DESCRIPTION:Saturday\, October 24\, 2026  |  5:00 – 9:00 PM (CT)  |  Texas Star Golf Course\nThe Gift of Adoption Fund – Texas Chapter will hold a fundraiser benefiting Texas families. Join us for free beer/wine\, cash bar\,\nhors d’oeuvres\, and both live & silent auctions with items from many local attractions. \nRegister – Sponsor – Donate \nGift of Adoption provides grants to complete the adoptions of children in vulnerable circumstances—giving them permanent families and a chance to thrive. 100% of the funds raised will help unite children with families across Texas.
URL:https://giftofadoption.org/goaevent/txfundraiser/
LOCATION:Texas Star Golf Course\, 1400 Texas Star Parkway\, Euless\, TX\, 76040
CATEGORIES:Texas Chapter
ATTACH;FMTTYPE=image/png:https://giftofadoption.org/wp-content/uploads/2021/08/tx-gala-26.png
END:VEVENT
BEGIN:VEVENT
DTSTART;TZID=America/New_York:20261106T173000
DTEND;TZID=America/New_York:20261106T210000
DTSTAMP:20260424T070310
CREATED:20220603T125934Z
LAST-MODIFIED:20260415T180840Z
UID:37476-1793986200-1793998800@giftofadoption.org
SUMMARY:Kentucky Chapter: Gallop for the Gift
DESCRIPTION:Friday\, November 6th  |  5:30 – 9:00 PM (ET)  |  The Olmsted\nJoin us for our 7th annual Gallop for the Gift event\, where we’ll raise money for adoption grants in Kentucky. Enjoy dinner and drinks while hearing the inspiring story of a family who received a Gift of Adoption grant. \nWe’re honored to welcome Miss Kentucky Ariana Rodriguez\, as our keynote speaker. A former foster youth\, she shares a powerful story of resilience\, hope\, and the impact of family—reflecting the heart of our mission. All funds raised will go directly to uniting children with families in Kentucky. \n Learn more!    \nGift of Adoption provides grants to complete the adoptions of children in vulnerable circumstances—giving them permanent families and a chance to thrive. 100% of the funds raised will help unite children with families in Kentucky. \n 
URL:https://giftofadoption.org/goaevent/kygallop/
LOCATION:The Olmsted\, 3701 Frankfort Avenue\, Louisville\, KY\, 40207
CATEGORIES:Kentucky Chapter
ATTACH;FMTTYPE=image/png:https://giftofadoption.org/wp-content/uploads/2022/06/ky-gallop-26-640x360-1.png
END:VEVENT
BEGIN:VEVENT
DTSTART;TZID=America/Chicago:20261106T180000
DTEND;TZID=America/Chicago:20261106T210000
DTSTAMP:20260424T070310
CREATED:20240701T223713Z
LAST-MODIFIED:20260305T173824Z
UID:43954-1793988000-1793998800@giftofadoption.org
SUMMARY:Missouri Chapter: Cheers to Adoption
DESCRIPTION:Friday\, November 6\, 2026  |  6:00 – 9:00 PM (CT)  |  Canterbury Hill Winery and Restaurant \nJoin us at Canterbury Hill Winery and Restaurant for an evening of wine tasting with four local wines (both reds & whites) and enjoy appetizers with a water and tea station\, as well as a cash bar. We will have a silent auction with exciting packages for you to bid on all to raise funds for Gift of Adoption. The best part of the night is hearing a story from one of our grant recipient families. \nTicket price $80.00 \nRegister – Sponsor – Donate \nGift of Adoption provides grants to complete the adoptions of children in vulnerable circumstances—giving them permanent families and a chance to thrive. 100% of the funds raised will help unite children with permanent\, loving families in Missouri. 
URL:https://giftofadoption.org/goaevent/cheers-nov/
LOCATION:Canterbury Hill Winery and Restaurant\, 1707 S. Summit Drive\, Holts Summit\, MO\, 65043\, United States
CATEGORIES:Missouri Chapter
ATTACH;FMTTYPE=image/png:https://giftofadoption.org/wp-content/uploads/2024/07/854x280-MO-NOV-Cheers-Event-Graphic-2-e1720048974170.png
END:VEVENT
BEGIN:VEVENT
DTSTART;TZID=America/New_York:20261113T180000
DTEND;TZID=America/New_York:20261113T223000
DTSTAMP:20260424T070310
CREATED:20260417T165611Z
LAST-MODIFIED:20260422T152153Z
UID:49328-1794592800-1794609000@giftofadoption.org
SUMMARY:Florida Chapter: Masquerades & Miracles
DESCRIPTION:Friday\, November 13\, 2026 | 6:00 – 10:30 PM (ET) | Hosted by Dan and Meghan Burns\nStep into an evening of intrigue\, elegance\, and impact at Gift of Adoption Florida’s annual gala\, Masquerades & Miracles. Behind every mask is a story – and through your support\, a miracle in the making. Join us for a captivating night of dining\, entertainment\, and inspiration as we come together to raise critical funds for adoption grants that unite children with loving families. Unmask the power of generosity and help create futures filled with hope. \nTickets – Sponsor – Donate \nGift of Adoption awards adoption grants to complete adoptions of children in vulnerable circumstances – giving them permanent families and the chance to thrive. 100% of the funds raised by the chapter is directed to uniting children with loving families.
URL:https://giftofadoption.org/goaevent/flgala/
LOCATION:72 Adalia Ave\, 72 Adalia Ave\, Tampa\, FL\, 33606\, United States
CATEGORIES:Florida Chapter
ATTACH;FMTTYPE=image/png:https://giftofadoption.org/wp-content/uploads/2026/04/2026-FL-Masquerade-8.png
END:VEVENT
END:VCALENDAR